BEGIN:VCALENDAR
VERSION:2.0
PRODID:-//eventon.com NONSGML v1.0//EN
CALSCALE:GREGORIAN
METHOD:PUBLISH
BEGIN:VEVENT
UID:69e75f8be40f6
DTSTAMP:20260421T112915Z
DTSTART:20140830
DTEND:20140831
LOCATION:
SUMMARY:Encontro da ABU para homens - SPMS
DESCRIPTION:Acontecerá nos dias 30 e 31 de agosto\,  em Bauru\,  o Encontr
 o da ABU para homens!   O objetivo do encontro é reunir os homens da regi
 ão\,  durante um final de semana\,  para um tempo de conversa franca\,  at
 ividades práticas e comida farta\,  onde iremos abordar algumas questões 
 e desafios[..]\nhttps://abub.org.br/eventos/encontro-da-abu-para-homens-spm
 s
URL:https://abub.org.br/eventos/encontro-da-abu-para-homens-spms
END:VEVENT
END:VCALENDAR