BEGIN:VCALENDAR
VERSION:2.0
PRODID:-//eventon.com NONSGML v1.0//EN
CALSCALE:GREGORIAN
METHOD:PUBLISH
BEGIN:VEVENT
UID:69e6c46f86d75
DTSTAMP:20260421T002727Z
DTSTART:20141011
DTEND:20141012
LOCATION:
SUMMARY:Treinamento Microrregional 2014 - Leste de Minas Gerais
DESCRIPTION:O TMR Leste de Minas acontecerá no Vale do Aço e terá como t
 ema: Missão Integral – Para que tenha o que compartilhar com o que tiver
  necessidade Efésios 4:28 Dias: 11 e 12 de Outubro de 2014 Local: 1º Igre
 ja Presbiteriana de Cel. Fabriciano – Rua: Presbiteriana 182\,  Bairro[..
 ]\nhttps://abub.org.br/eventos/treinamento-microrregional-2014-leste-de-min
 as-gerais
URL:https://abub.org.br/eventos/treinamento-microrregional-2014-leste-de-minas-gerais
END:VEVENT
END:VCALENDAR