BEGIN:VCALENDAR
VERSION:2.0
PRODID:-//eventon.com NONSGML v1.0//EN
CALSCALE:GREGORIAN
METHOD:PUBLISH
BEGIN:VEVENT
UID:69e7aa74b6339
DTSTAMP:20260421T164852Z
DTSTART:20250619T110000Z
DTEND:20250622T173000Z
LOCATION:
SUMMARY:Encontro da Rede de Pesquisadores da ABUB
DESCRIPTION:Paralelamente ao Encontro Nacional de Assessores Auxiliares de 
 2025\,  teremos o Encontro da Rede de Pesquisadores da ABUB com as pessoas 
 envolvidas no planejamento da Rede de Pesquisadores e participantes da Inic
 iativa Logos e Cosmos da IFES Latina. Queremos que este espaço seja um mom
 ento de sonho e planejamento dessa[..]\nhttps://abub.org.br/eventos/encontr
 o-da-rede-de-pesquisadores-da-abub
URL:https://abub.org.br/eventos/encontro-da-rede-de-pesquisadores-da-abub
END:VEVENT
END:VCALENDAR